BEGIN:VCALENDAR
VERSION:2.0
PRODID:-//Geraer VC - ECPv6.15.20//NONSGML v1.0//EN
CALSCALE:GREGORIAN
METHOD:PUBLISH
X-WR-CALNAME:Geraer VC
X-ORIGINAL-URL:https://geraer-vc.de
X-WR-CALDESC:Veranstaltungen für Geraer VC
REFRESH-INTERVAL;VALUE=DURATION:PT1H
X-Robots-Tag:noindex
X-PUBLISHED-TTL:PT1H
BEGIN:VTIMEZONE
TZID:Europe/Berlin
BEGIN:DAYLIGHT
TZOFFSETFROM:+0100
TZOFFSETTO:+0200
TZNAME:CEST
DTSTART:20250330T010000
END:DAYLIGHT
BEGIN:STANDARD
TZOFFSETFROM:+0200
TZOFFSETTO:+0100
TZNAME:CET
DTSTART:20251026T010000
END:STANDARD
BEGIN:DAYLIGHT
TZOFFSETFROM:+0100
TZOFFSETTO:+0200
TZNAME:CEST
DTSTART:20260329T010000
END:DAYLIGHT
BEGIN:STANDARD
TZOFFSETFROM:+0200
TZOFFSETTO:+0100
TZNAME:CET
DTSTART:20261025T010000
END:STANDARD
BEGIN:DAYLIGHT
TZOFFSETFROM:+0100
TZOFFSETTO:+0200
TZNAME:CEST
DTSTART:20270328T010000
END:DAYLIGHT
BEGIN:STANDARD
TZOFFSETFROM:+0200
TZOFFSETTO:+0100
TZNAME:CET
DTSTART:20271031T010000
END:STANDARD
END:VTIMEZONE
BEGIN:VEVENT
DTSTART;TZID=Europe/Berlin:20260322T100000
DTEND;TZID=Europe/Berlin:20260322T160000
DTSTAMP:20260424T214057
CREATED:20250821T184909Z
LAST-MODIFIED:20250821T184909Z
UID:8357-1774173600-1774195200@geraer-vc.de
SUMMARY:Spieltag GVC-Jugend
DESCRIPTION:Landesmeisterschaft TVV-Jugend-Jugend U13w
URL:https://geraer-vc.de/event/spieltag-gvc-jugend-32/
LOCATION:n.n.\, Greußen\, 99718\, DE
CATEGORIES:Auswärtsspiel
END:VEVENT
END:VCALENDAR