BEGIN:VCALENDAR
VERSION:2.0
PRODID:-//Geraer VC - ECPv6.15.20//NONSGML v1.0//EN
CALSCALE:GREGORIAN
METHOD:PUBLISH
X-ORIGINAL-URL:https://geraer-vc.de
X-WR-CALDESC:Veranstaltungen für Geraer VC
REFRESH-INTERVAL;VALUE=DURATION:PT1H
X-Robots-Tag:noindex
X-PUBLISHED-TTL:PT1H
BEGIN:VTIMEZONE
TZID:Europe/Berlin
BEGIN:DAYLIGHT
TZOFFSETFROM:+0100
TZOFFSETTO:+0200
TZNAME:CEST
DTSTART:20250330T010000
END:DAYLIGHT
BEGIN:STANDARD
TZOFFSETFROM:+0200
TZOFFSETTO:+0100
TZNAME:CET
DTSTART:20251026T010000
END:STANDARD
BEGIN:DAYLIGHT
TZOFFSETFROM:+0100
TZOFFSETTO:+0200
TZNAME:CEST
DTSTART:20260329T010000
END:DAYLIGHT
BEGIN:STANDARD
TZOFFSETFROM:+0200
TZOFFSETTO:+0100
TZNAME:CET
DTSTART:20261025T010000
END:STANDARD
BEGIN:DAYLIGHT
TZOFFSETFROM:+0100
TZOFFSETTO:+0200
TZNAME:CEST
DTSTART:20270328T010000
END:DAYLIGHT
BEGIN:STANDARD
TZOFFSETFROM:+0200
TZOFFSETTO:+0100
TZNAME:CET
DTSTART:20271031T010000
END:STANDARD
END:VTIMEZONE
BEGIN:VEVENT
DTSTART;TZID=Europe/Berlin:20260307T110000
DTEND;TZID=Europe/Berlin:20260307T150000
DTSTAMP:20260424T214223
CREATED:20250821T184712Z
LAST-MODIFIED:20250827T184353Z
UID:8340-1772881200-1772895600@geraer-vc.de
SUMMARY:Punktspiel GVC-Herren
DESCRIPTION:Thüringenliga Herren: Sportverein TU – Ilmenau vs. Geraer VC I
URL:https://geraer-vc.de/event/punktspiel-gvc-herren-27/
LOCATION:Ilmenau\, Gera\, 07546\, DE
CATEGORIES:Auswärtsspiel
END:VEVENT
BEGIN:VEVENT
DTSTART;TZID=Europe/Berlin:20260307T110000
DTEND;TZID=Europe/Berlin:20260307T150000
DTSTAMP:20260424T214223
CREATED:20250821T184713Z
LAST-MODIFIED:20250827T184440Z
UID:8341-1772881200-1772895600@geraer-vc.de
SUMMARY:Punktspiel GVC-Damen
DESCRIPTION:Bezirksliga Ost Damen: Geraer Volleyballclub V vs. Geraer Volleyballclub III
URL:https://geraer-vc.de/event/punktspiel-gvc-damen-52/
LOCATION:Jena\, Jena\, 07747\, DE
CATEGORIES:Auswärtsspiel
END:VEVENT
BEGIN:VEVENT
DTSTART;TZID=Europe/Berlin:20260307T110000
DTEND;TZID=Europe/Berlin:20260307T150000
DTSTAMP:20260424T214223
CREATED:20250821T184713Z
LAST-MODIFIED:20250827T184440Z
UID:8342-1772881200-1772895600@geraer-vc.de
SUMMARY:Punktspiel GVC-Damen
DESCRIPTION:Bezirksliga Ost Damen: USV Jena e.V. vs. Geraer Volleyballclub V
URL:https://geraer-vc.de/event/punktspiel-gvc-damen-53/
LOCATION:Jena\, Jena\, 07747\, DE
CATEGORIES:Auswärtsspiel
END:VEVENT
BEGIN:VEVENT
DTSTART;TZID=Europe/Berlin:20260307T110000
DTEND;TZID=Europe/Berlin:20260307T150000
DTSTAMP:20260424T214223
CREATED:20250821T184713Z
LAST-MODIFIED:20250827T184440Z
UID:8343-1772881200-1772895600@geraer-vc.de
SUMMARY:Punktspiel GVC-Damen
DESCRIPTION:Bezirksliga Ost Damen: USV Jena e.V. vs. Geraer Volleyballclub III
URL:https://geraer-vc.de/event/punktspiel-gvc-damen-54/
LOCATION:Jena\, Jena\, 07747\, DE
CATEGORIES:Auswärtsspiel
END:VEVENT
END:VCALENDAR